BEGIN:VCALENDAR
VERSION:2.0
PRODID:-//Presbyterian College - ECPv6.15.20//NONSGML v1.0//EN
CALSCALE:GREGORIAN
METHOD:PUBLISH
X-WR-CALNAME:Presbyterian College
X-ORIGINAL-URL:https://www.presby.edu
X-WR-CALDESC:Events for Presbyterian College
REFRESH-INTERVAL;VALUE=DURATION:PT1H
X-Robots-Tag:noindex
X-PUBLISHED-TTL:PT1H
BEGIN:VTIMEZONE
TZID:UTC
BEGIN:STANDARD
TZOFFSETFROM:+0000
TZOFFSETTO:+0000
TZNAME:UTC
DTSTART:20250101T000000
END:STANDARD
END:VTIMEZONE
BEGIN:VEVENT
DTSTART;TZID=UTC:20260422T120000
DTEND;TZID=UTC:20260423T120000
DTSTAMP:20260423T030338
CREATED:20260415T200153Z
LAST-MODIFIED:20260415T200246Z
UID:13931-1776859200-1776945600@www.presby.edu
SUMMARY:Giving Day
DESCRIPTION:Save the date! Giving Day returns April 22-23 for 24 hours of Blue Hose generosity and impact. Every gift helps strengthen the opportunities\, traditions\, and student experiences that make PC so special. Together\, we can rally in support of our students and the future of Presbyterian College.\n\nMake your gift early.
URL:https://www.presby.edu/event/giving-day/
CATEGORIES:Alumni,Campus,Community
ATTACH;FMTTYPE=image/png:https://www.presby.edu/wp-content/uploads/2026/04/Giving-Day-2026-web-event-feat.-image.png
END:VEVENT
BEGIN:VEVENT
DTSTART;TZID=UTC:20260423T193000
DTEND;TZID=UTC:20260423T193000
DTSTAMP:20260423T030338
CREATED:20260417T142211Z
LAST-MODIFIED:20260417T142253Z
UID:13960-1776972600-1776972600@www.presby.edu
SUMMARY:Are You Afraid of Classical Music? – Orchestra Concert
DESCRIPTION:Are you afraid of classical music? Come and discover the transformative power of classical music in your life. The Presbyterian College Orchestra\, conducted by Dr. Giovani Briguente\, performs April 23 at 7:30 p.m. in Edmunds Hall. Free\, open to the public\, and casual attire welcome.\n\n\nThe program includes:\n\n 	Beethoven’s Cavatina from String Quartet No. 13\, Op. 130\n 	Mozart’s Allegro from Flute Quartet in D major\, K. 285\n 	Casadesus/Bach Concerto in C minor for Viola (featuring soloist Alexander Williams)\n 	Haydn’s Symphony No. 35 in B-flat major\, Hob. I:35.
URL:https://www.presby.edu/event/are-you-afraid-of-classical-music-orchestra-concert/
LOCATION:Edmunds Hall
CATEGORIES:Alumni,Campus,Community,Students
ATTACH;FMTTYPE=image/png:https://www.presby.edu/wp-content/uploads/2026/04/PC-Orchestra-Are-You-Afraid-of-Classical-Music-Web-event-feat.-image.png
END:VEVENT
END:VCALENDAR